BEGIN:VCALENDAR
VERSION:2.0
PRODID:-//hacksw/handcal//NONSGML v1.0//EN
BEGIN:VEVENT
DTSTART:20251107T191500Z
DTEND:20251107T225500Z
LOCATION:La Terrasse \n2, Place de l'École Militaire \n75007 PARIS
ORGANIZER;CN=Laurence Rolland - HEC Grande Ecole 1978:MAILTO:laurence.rolland@hecalumni.fr
SUMMARY:Visite des Invalides &  Dîner
DESCRIPTION:Chères amies, chers amis, cher(e)s camarades,Nous espérons vous trouver en forme en cette fin de période estivale !Comme annoncé, nous nous retrouverons le vendredi 7 novembre pour célébrer ensemble...
URL:https://www.hecalumni.fr/en/group/hec-grande-ecole-1978/935/calendar/visite-des-invalides-diner/2025/11/07/12806
BEGIN:VALARM
TRIGGER:-P0DT1H0M0S
ACTION:DISPLAY
END:VALARM
END:VEVENT
END:VCALENDAR