BEGIN:VCALENDAR
VERSION:2.0
PRODID:-//hacksw/handcal//NONSGML v1.0//EN
BEGIN:VEVENT
DTSTART:20260923T161500Z
DTEND:20260923T191500Z
LOCATION:HEC Alumni \n9, Avenue Franklin Delano Roosevelt \n75008 Paris
ORGANIZER;CN=Marine Homo:MAILTO:marine.homo@hecalumni.fr
SUMMARY:Test Strong : explorez vos motivations professionnelles - 23 septembre
DESCRIPTION:Le test STRONG vous permettra de mieux comprendre l'environnement dans lequel vous pouvez vous épanouir : des types de structures aux fonctions, en passant par la manière dont vous aimez diriger ou...
URL:https://www.hecalumni.fr/en/event/test-strong-explorez-vos-motivations-professionnelles-23-septembre/2026/09/23/12797
BEGIN:VALARM
TRIGGER:-P0DT1H0M0S
ACTION:DISPLAY
END:VALARM
END:VEVENT
END:VCALENDAR