BEGIN:VCALENDAR
VERSION:2.0
PRODID:-//hacksw/handcal//NONSGML v1.0//EN
BEGIN:VEVENT
DTSTART:20260521T161500Z
DTEND:20260521T191500Z
LOCATION:HEC Alumni \n9, Avenue Franklin Delano Roosevelt \n75008 PARIS
ORGANIZER;CN=Marine Homo:MAILTO:marine.homo@hecalumni.fr
SUMMARY:Test Strong : explorez vos motivations professionnelles - 21 mai
DESCRIPTION:Le test STRONG vous permettra de mieux comprendre l'environnement dans lequel vous pouvez vous épanouir : des types de structures aux fonctions, en passant par la manière dont vous aimez diriger ou...
URL:https://www.hecalumni.fr/en/event/test-strong-explorez-vos-motivations-professionnelles-21-mai/2026/05/21/12795
BEGIN:VALARM
TRIGGER:-P0DT1H0M0S
ACTION:DISPLAY
END:VALARM
END:VEVENT
END:VCALENDAR