BEGIN:VCALENDAR
VERSION:2.0
PRODID:-//hacksw/handcal//NONSGML v1.0//EN
BEGIN:VEVENT
DTSTART:20250903T101500Z
DTEND:20250903T114500Z
LOCATION:
ORGANIZER;CN=Isabelle Dion - HUB SANTE - HEALTH HUB:MAILTO:isabellecdion@orange.fr
SUMMARY:EXECUTIVE CAREERS IN HEALTH
DESCRIPTION:\nSave the date!The tenth edition of this interactive career event will take place on Zoom on September 3, 2025 at 12:15. It is open to Executive MBA Students (E.26) and Young Alumni (E.23, E.24,...
URL:https://www.hecalumni.fr/en/group/hub-sante-health-hub/393/calendar/executive-careers-in-health/2025/09/03/12789
BEGIN:VALARM
TRIGGER:-P0DT1H0M0S
ACTION:DISPLAY
END:VALARM
END:VEVENT
END:VCALENDAR