BEGIN:VCALENDAR
VERSION:2.0
PRODID:-//hacksw/handcal//NONSGML v1.0//EN
BEGIN:VEVENT
DTSTART:20250911T163000Z
DTEND:20250911T203000Z
LOCATION:Maison HEC Alumni \n9 avenue Franklin Roosevelt \n75008 Paris
ORGANIZER;CN=Laurent Blondeau - Ile-de-France Ouest:MAILTO:lbuzzedin@gmail.com
SUMMARY:Les ambitions du Plateau de Saclay : quel rôle pour HEC ?
DESCRIPTION:Nous fêtons cette année les 15 ans de la gouvernance du Plateau de Saclay, dans la foulée de la loi du Grand Paris. Le Plateau de Saclay est l’un des 8 plus grands clusters mondiaux d’innovation au...
URL:https://www.hecalumni.fr/en/group/ile-de-france-ouest/277/calendar/les-ambitions-du-plateau-de-saclay-quel-role-pour-hec/2025/09/11/12741
BEGIN:VALARM
TRIGGER:-P0DT1H0M0S
ACTION:DISPLAY
END:VALARM
END:VEVENT
END:VCALENDAR