BEGIN:VCALENDAR
VERSION:2.0
PRODID:-//hacksw/handcal//NONSGML v1.0//EN
BEGIN:VEVENT
DTSTART:20250709T170000Z
DTEND:20250709T200000Z
LOCATION:Les Frères Pinards \n26, Rue des Vieux Murs \n59800 LILLE
ORGANIZER;CN=Hélène Terrier - Hauts de France:MAILTO:hterrier.pro@gmail.com
SUMMARY:Happy Alumni Hour à Lille le 9 juillet
DESCRIPTION:\nRejoignez-nous à la soirée Inter Alumni Essec, HEC et Insead à Lille le mercredi 9 juillet de 19h00 à 22h00\nVenez faire connaissance avant la pause estivale, reprendre contact, accueillir les...
URL:https://www.hecalumni.fr/en/group/hauts-de-france/67/calendar/happy-alumni-hour-a-lille-le-9-juillet/2025/07/09/12738
BEGIN:VALARM
TRIGGER:-P0DT1H0M0S
ACTION:DISPLAY
END:VALARM
END:VEVENT
END:VCALENDAR