BEGIN:VCALENDAR
VERSION:2.0
PRODID:-//hacksw/handcal//NONSGML v1.0//EN
BEGIN:VEVENT
DTSTART:20250612T130000Z
DTEND:20250612T160000Z
LOCATION:
ORGANIZER;CN=Isabelle Dion - HUB SANTE - HEALTH HUB:MAILTO:isabellecdion@orange.fr
SUMMARY:RISKS FROM MIRROR LIFE
DESCRIPTION:The Institut Pasteur and the Mirror Biology Dialogues Fund are organizing an international symposium RISKS FROM MIRROR LIFE on June 12, 2025 3:00-6:00pm which will be streamed live.As agreed with the ...
URL:https://www.hecalumni.fr/en/group/hub-sante-health-hub/393/calendar/risks-from-mirror-life/2025/06/12/12704
BEGIN:VALARM
TRIGGER:-P0DT1H0M0S
ACTION:DISPLAY
END:VALARM
END:VEVENT
END:VCALENDAR