BEGIN:VCALENDAR
VERSION:2.0
PRODID:-//hacksw/handcal//NONSGML v1.0//EN
BEGIN:VEVENT
DTSTART:20250703T140000Z
DTEND:20250705T174500Z
LOCATION:Parc Jourdan \nAvenue Anatole France \n13100 Aix-en-Provence
ORGANIZER;CN=Isabelle Dion - HUB SANTE - HEALTH HUB:MAILTO:isabellecdion@orange.fr
SUMMARY:RENCONTRES ECONOMIQUES D'AIX-EN-PROVENCE - AFFRONTER LE CHOC DES REALITES / FACING REALITY: A CALL TO ACTION
DESCRIPTION:\nLes 25e Rencontres Economiques d'Aix-en-Provence, organisées par Le Cercle des Economistes, se tiendront du 3 au 5 juillet 2025 à Aix-en-Provence et en ligne sur le thème AFFRONTER LE CHOC DES...
URL:https://www.hecalumni.fr/en/group/hub-sante-health-hub/393/calendar/rencontres-economiques-d-aix-en-provence-affronter-le-choc-des-realites-facing-reality-a-call-to-action/2025/07/03/12637
BEGIN:VALARM
TRIGGER:-P0DT1H0M0S
ACTION:DISPLAY
END:VALARM
END:VEVENT
END:VCALENDAR