BEGIN:VCALENDAR
VERSION:2.0
PRODID:-//hacksw/handcal//NONSGML v1.0//EN
BEGIN:VEVENT
DTSTART:20250613T163000Z
DTEND:20250613T193000Z
LOCATION:HEC Alumni House (Paris) \n9 Avenue Franklin Roosevelt \n75008 Paris
ORGANIZER;CN=Amine Lazrak - Angels:MAILTO:aminelazrak@gmail.com
SUMMARY:Évènement de pitch de startups HEC / HEC Startup Pitch Event
DESCRIPTION:Assistez au pitch des startups les plus prometteuses de notre deuxième cohorte 🚀Nous avons le plaisir de vous inviter à un évènement exceptionnel et exclusif qui réunira cinq startups triées sur le...
URL:https://www.hecalumni.fr/en/group/angels/353/calendar/evenement-de-pitch-de-startups-hec-hec-startup-pitch-event/2025/06/13/12627
BEGIN:VALARM
TRIGGER:-P0DT1H0M0S
ACTION:DISPLAY
END:VALARM
END:VEVENT
END:VCALENDAR