BEGIN:VCALENDAR
VERSION:2.0
PRODID:-//hacksw/handcal//NONSGML v1.0//EN
BEGIN:VEVENT
DTSTART:20250523T173000Z
DTEND:20250523T200000Z
LOCATION:Restaurant
ORGANIZER;CN=Laurent Delporte - Pays de la Loire:MAILTO:coach@laurentdelporte.com
SUMMARY:Soirée conviviale HEC ALUMNI Vendée
DESCRIPTION:Bonjour chers camarades HEC de Vendée et d'ailleurs,Retrouvez-nous le vendredi 23/4 à la Roche sur Yon pour fêter le retour de l’été !Nous nous retrouverons dans un restaurant pour partager un moment ...
URL:https://www.hecalumni.fr/en/group/pays-de-la-loire/71/calendar/soiree-conviviale-hec-alumni-vendee/2025/05/23/12587
BEGIN:VALARM
TRIGGER:-P0DT1H0M0S
ACTION:DISPLAY
END:VALARM
END:VEVENT
END:VCALENDAR