BEGIN:VCALENDAR
VERSION:2.0
PRODID:-//hacksw/handcal//NONSGML v1.0//EN
BEGIN:VEVENT
DTSTART:20250502T170000Z
DTEND:20250504T150000Z
LOCATION:Val d'Isère \n73150 VAL D'ISERE
ORGANIZER;CN=Laurence Rolland - Ski Coupe Association HEC:MAILTO:laurence.rolland@hecalumni.fr
SUMMARY:WE de Ski à Val d'Isère - Coupe HEC 2025 - du 2 au 4 mai 2025
DESCRIPTION:\nInscription au Week-end Ski Alumni HEC – Val d’Isère 2025 ⛷Du Vendredi 2 au Dimanche 4 mai 2025Chers Alumni et Étudiants HEC,\nLe Ski Club HEC Paris est ravi de vous retrouver du 2 au 4 mai 2025 à...
URL:https://www.hecalumni.fr/en/group/ski-coupe-association-hec/343/calendar/we-de-ski-a-val-d-isere-coupe-hec-2025-du-2-au-4-mai-2025/2025/05/02/12415
BEGIN:VALARM
TRIGGER:-P0DT1H0M0S
ACTION:DISPLAY
END:VALARM
END:VEVENT
END:VCALENDAR