BEGIN:VCALENDAR
VERSION:2.0
PRODID:-//hacksw/handcal//NONSGML v1.0//EN
BEGIN:VEVENT
DTSTART:20250620T090000Z
DTEND:20250620T120000Z
LOCATION:Maison Ackerman \n19 rue Léopold Palustre \n49400 SAUMUR
ORGANIZER;CN=Anne Sophie Lacarelle-Gasse - Pays de la Loire:MAILTO:alacarelle@yahoo.fr
SUMMARY:Visite des caves Ackerman - "Voyage au centre de la bulle" & cocktail déjeuner
DESCRIPTION:Chers HEC des Pays de Loire et Régions voisines\nDans le cadre d'une initiative conjointe HEC Détente - HEC Pays de Loire, nous vous proposons de participer à une série de rencontres à Angers / Saumur...
URL:https://www.hecalumni.fr/en/group/pays-de-la-loire/71/calendar/visite-des-caves-ackerman-voyage-au-centre-de-la-bulle-cocktail-dejeuner/2025/06/20/12406
BEGIN:VALARM
TRIGGER:-P0DT1H0M0S
ACTION:DISPLAY
END:VALARM
END:VEVENT
END:VCALENDAR