BEGIN:VCALENDAR
VERSION:2.0
PRODID:-//hacksw/handcal//NONSGML v1.0//EN
BEGIN:VEVENT
DTSTART:20250621T120000Z
DTEND:20250621T220000Z
LOCATION:Campus HEC \n1, Rue de la Libération \n78350 JOUY-EN-JOSAS
ORGANIZER;CN=Deepak Rajput - LE 10 DAY - retrouvailles sur le campus HEC:MAILTO:
SUMMARY:LE 10 DAY -  Celebrate 21 June, 2025 on the HEC Campus
DESCRIPTION:\nDear Graduating Classes with a year ending in 5 (1955, 1965, 1975, 1985, 1995, 2005, and 2015), 🎓 \nWe are pleased to invite you to “LE 10 DAY" - a grand reunion day on the HEC Campus for all...
URL:https://www.hecalumni.fr/en/group/le-10-day-retrouvailles-sur-le-campus-hec/3054/calendar/le-10-day-celebrate-21-june-2025-on-the-hec-campus/2025/06/21/12337
BEGIN:VALARM
TRIGGER:-P0DT1H0M0S
ACTION:DISPLAY
END:VALARM
END:VEVENT
END:VCALENDAR