BEGIN:VCALENDAR
VERSION:2.0
PRODID:-//hacksw/handcal//NONSGML v1.0//EN
BEGIN:VEVENT
DTSTART:20250312T173000Z
DTEND:20250312T223000Z
LOCATION:HEC Alumni House \n9, Avenue Franklin Delano Roosevelt \n75008 PARIS
ORGANIZER;CN=Mona Audi-Montaldier - Hub Digital - Digital Hub:MAILTO:mmontaldier@icloud.com
SUMMARY:"THE FUTURE OF YOUR HEALTH" Conference+ Immersive Xperience with the latest XR HEADSETS
DESCRIPTION:THIS IS NOT SCIENCE FICTION , IT IS REALA Worldwide Event with Immersive VR experience  (latest XR headsets)"THE FUTURE OF YOUR HEALTH”Conference – Cocktail – ShowroomsMarch 12th, 2025 - 6.30pm...
URL:https://www.hecalumni.fr/en/group/hub-digital-digital-hub/265/calendar/-the-future-of-your-health-conference-immersive-xperience-with-the-latest-xr-headsets/2025/03/12/12277
BEGIN:VALARM
TRIGGER:-P0DT1H0M0S
ACTION:DISPLAY
END:VALARM
END:VEVENT
END:VCALENDAR