BEGIN:VCALENDAR
VERSION:2.0
PRODID:-//hacksw/handcal//NONSGML v1.0//EN
BEGIN:VEVENT
DTSTART:20250304T181500Z
DTEND:20250304T203000Z
LOCATION:DS Avocats \n6, Rue Duret \n75116 PARIS
ORGANIZER;CN=Pierre-Yves Carpentier - Développement International - International Development:MAILTO:pycarpentier@yahoo.fr
SUMMARY:China versus USA - avec Emmanuel Véron
DESCRIPTION:Chers membres du Club Développement International (CDI), du Club Generation Share et du Club Géostratégies Nous avons le plaisir de vous convier à la conférence hybride suivante, sur le thème...
URL:https://www.hecalumni.fr/en/group/developpement-international-international-development/217/calendar/china-versus-usa-avec-emmanuel-veron/2025/03/04/12273
BEGIN:VALARM
TRIGGER:-P0DT1H0M0S
ACTION:DISPLAY
END:VALARM
END:VEVENT
END:VCALENDAR