BEGIN:VCALENDAR
VERSION:2.0
PRODID:-//hacksw/handcal//NONSGML v1.0//EN
BEGIN:VEVENT
DTSTART:20250423T220000Z
DTEND:20250426T215500Z
LOCATION:Grand Palais
ORGANIZER;CN=Adrien Millet:MAILTO:
SUMMARY:Join the HEC Paris Delegation at ChangeNOW 2025!
DESCRIPTION:\nHEC Paris is a proud Academic Partner of ChangeNOW 2025, the largest event of solutions for the planet. Join the HEC Paris delegation of over 220 personnes, comprising HEC professors, students,...
URL:https://www.hecalumni.fr/en/event/join-the-hec-paris-delegation-at-changenow-2025/2025/04/24/12269
BEGIN:VALARM
TRIGGER:-P0DT1H0M0S
ACTION:DISPLAY
END:VALARM
END:VEVENT
END:VCALENDAR