BEGIN:VCALENDAR
VERSION:2.0
PRODID:-//hacksw/handcal//NONSGML v1.0//EN
BEGIN:VEVENT
DTSTART:20250306T173000Z
DTEND:20250306T210000Z
LOCATION:Club HEC Alumni  \n9 avenue Franklin D Roosevelt  \n75008 Paris
ORGANIZER;CN=Monica Prieto Langard - Technologies Avancées - Advanced technologies:MAILTO:monica.prieto.langard@gmail.com
SUMMARY:L'Art de la Guerre à l'Ere des IA
DESCRIPTION:L'Art de la Guerre à l'Ere des IALe 6 mars 2025 à 18:30A l'Association HEC Alumni, 9 av. Franklin D. Roosevelt 75008 Paris et en ligne Accueil dès 18 heures, places en présentiel limitées !\nForce est...
URL:https://www.hecalumni.fr/en/group/technologies-avancees-advanced-technologies/367/calendar/l-art-de-la-guerre-a-l-ere-des-ia/2025/03/06/12146
BEGIN:VALARM
TRIGGER:-P0DT1H0M0S
ACTION:DISPLAY
END:VALARM
END:VEVENT
END:VCALENDAR