BEGIN:VCALENDAR
VERSION:2.0
PRODID:-//hacksw/handcal//NONSGML v1.0//EN
BEGIN:VEVENT
DTSTART:20250204T173000Z
DTEND:20250204T200000Z
LOCATION:HEC Alumni \n9, Avenue Franklin Delano Roosevelt \n75008 PARIS
ORGANIZER;CN=Pierre-Laurent Dugre - Hub Digital - Digital Hub:MAILTO:pl.dugre@gmail.com
SUMMARY:Blockchain 2025, the future of Finance  DeFi & practical application
DESCRIPTION:HEC Alumni Digital & HEC Alumni Finance Present  Blockchain 2025, the future of FinanceDeFi & practical applicationConference & Cocktail  February 4th, 2025- 6.30 PM UTC+2  The conference will start...
URL:https://www.hecalumni.fr/en/group/hub-digital-digital-hub/265/calendar/blockchain-2025-the-future-of-finance-defi-practical-application/2025/02/04/12062
BEGIN:VALARM
TRIGGER:-P0DT1H0M0S
ACTION:DISPLAY
END:VALARM
END:VEVENT
END:VCALENDAR