BEGIN:VCALENDAR
VERSION:2.0
PRODID:-//hacksw/handcal//NONSGML v1.0//EN
BEGIN:VEVENT
DTSTART:20160930T225000
DTEND:20160930T235500
LOCATION:Site WEb HEC Alumni
ORGANIZER;CN=Astrid Veyrat:MAILTO:astrid.veyrat@hecalumni.fr
SUMMARY:Proposition de création d'un nouveau Club - HEC Automobile club
DESCRIPTION:\nVous voulez marquer votre interet pour la création de ce nouveau Club dédié à l'Automobile?\nAprès avoir lu le descriptif ci-dessous, n'hésitez pas à vous y pré-inscrire gratuitement!\nSi vous êtes ...
URL:https://www.hecalumni.fr/en/event/proposition-de-creation-d-un-nouveau-club-hec-automobile-club/2016/09/30/1191
BEGIN:VALARM
TRIGGER:-P0DT1H0M0S
ACTION:DISPLAY
END:VALARM
END:VEVENT
END:VCALENDAR