BEGIN:VCALENDAR
VERSION:2.0
PRODID:-//hacksw/handcal//NONSGML v1.0//EN
BEGIN:VEVENT
DTSTART:20241211T220000Z
DTEND:20241212T000000Z
LOCATION:Tour KPMG, salle Marcel Cote, 15 eme etage \n600, Boulevard De Maisonneuve Ouest \nH3A 3J2 MONTREAL
ORGANIZER;CN=Anne-Valérie Guidollet-Paque - Canada - Québec:MAILTO:guidollet.anne@gmail.com
SUMMARY:5a7 Festif chez KPMG le 11 decembre
DESCRIPTION:Rendez-vous le mercredi 11 décembre chez notre camarade Laetitia Debout (partner chez KPMG) pour un 5a7 festif ! Merci de réserver votre place !
URL:https://www.hecalumni.fr/en/group/canada-quebec/105/calendar/5a7-festif-chez-kpmg-le-11-decembre/2024/12/11/11866
BEGIN:VALARM
TRIGGER:-P0DT1H0M0S
ACTION:DISPLAY
END:VALARM
END:VEVENT
END:VCALENDAR