BEGIN:VCALENDAR
VERSION:2.0
PRODID:-//hacksw/handcal//NONSGML v1.0//EN
BEGIN:VEVENT
DTSTART:20241204T180000Z
DTEND:20241204T220000Z
LOCATION:HEC Alumni  \n9 avenue F.D. Roosevelt \n75008 Paris
ORGANIZER;CN=Cédric Sinarinzi - Droit et Entreprise - Law & Business:MAILTO:cedricsinarinzi@yahoo.fr
SUMMARY:PRIX DU JURISTE HEC 2024
DESCRIPTION:Cher(e)s Camarades,Le Club HEC Alumni Droit et Entreprise a le plaisir de vous inviter à la cérémonie de remise de l'édition 2024 du"PRIX DU JURISTE HEC"sous le parrainage deMadame Lorène Martel...
URL:https://www.hecalumni.fr/en/group/droit-et-entreprise-law-business/173/calendar/prix-du-juriste-hec-2024/2024/12/04/11855
BEGIN:VALARM
TRIGGER:-P0DT1H0M0S
ACTION:DISPLAY
END:VALARM
END:VEVENT
END:VCALENDAR