BEGIN:VCALENDAR
VERSION:2.0
PRODID:-//hacksw/handcal//NONSGML v1.0//EN
BEGIN:VEVENT
DTSTART:20241129T071500Z
DTEND:20241129T083000Z
LOCATION:PAVILLON VENDOME \n7, Place Vendôme \n75001 PARIS
ORGANIZER;CN=Sophie Bonn-Cleret:MAILTO:sophie.bonn-cleret@hecalumni.fr
SUMMARY:MATIN HEC (exclusive english) with Paul Hudson -  Chief Executive Officer - SANOFI
DESCRIPTION:Paul Hudson -  Chief Executive Officer - SANOFI\nPaul Hudson is reshaping Sanofi into a modern healthcare company with the ambition to transform the practice of medicine. Driven by a purpose to chase ...
URL:https://www.hecalumni.fr/en/event/matin-hec-exclusive-english-with-paul-hudson-chief-executive-officer-sanofi/2024/11/29/11798
BEGIN:VALARM
TRIGGER:-P0DT1H0M0S
ACTION:DISPLAY
END:VALARM
END:VEVENT
END:VCALENDAR