BEGIN:VCALENDAR
VERSION:2.0
PRODID:-//hacksw/handcal//NONSGML v1.0//EN
BEGIN:VEVENT
DTSTART:20241121T180000Z
DTEND:20241121T200000Z
LOCATION:Association HEC Alumni  \n9, Avenue Franklin Delano Roosevelt \n75008 PARIS
ORGANIZER;CN=Moulay Rachid Bourazza - Développement International - International Development:MAILTO:mrbourazza@gmail.com
SUMMARY:Conférence de DIDIER HOLLEAUX sur la géopolitique du gaz et sur les Gazoducs NORDSTREAM, jeudi 21 novembre 2024 à 19h
DESCRIPTION:Les clubs DÉVELOPPEMENT INTERNATIONAL, GÉNÉRATION SHARE, GÉOSTRATEGIES et ÉNERGIE sont heureux de vous convier le 21 Novembre prochain à écouter DIDIER HOLLEAUX vous raconter la véritable histoire du ...
URL:https://www.hecalumni.fr/en/group/developpement-international-international-development/217/calendar/conference-de-didier-holleaux-sur-la-geopolitique-du-gaz-et-sur-les-gazoducs-nordstream-jeudi-21-novembre-2024-a-19h/2024/11/21/11774
BEGIN:VALARM
TRIGGER:-P0DT1H0M0S
ACTION:DISPLAY
END:VALARM
END:VEVENT
END:VCALENDAR