BEGIN:VCALENDAR
VERSION:2.0
PRODID:-//hacksw/handcal//NONSGML v1.0//EN
BEGIN:VEVENT
DTSTART:20241122T180000Z
DTEND:20241122T225500Z
LOCATION:Seguin Sound, Ile Seguin \n1, Parvis de l'Île Seguin, 92100 Boulogne-Billancourt \n92100 Boulogne-Billancourt
ORGANIZER;CN=Jean-François Valent - HEC Rock:MAILTO:jf_valent@hotmail.com
SUMMARY:Soirée concert Club Rock HEC le 22 novembre 2024
DESCRIPTION:Après le HECFEST édition 2024 en juin dernier, le Club Rock HEC vous invite à une soirée "HEC Rocks !" le vendredi 22 novembre 2024 au Seguin Sound sur l'ile Seguin. 3 groupes seront à l'affiche : les...
URL:https://www.hecalumni.fr/en/group/hec-rock/3013/calendar/soiree-concert-club-rock-hec-le-22-novembre-2024/2024/11/22/11772
BEGIN:VALARM
TRIGGER:-P0DT1H0M0S
ACTION:DISPLAY
END:VALARM
END:VEVENT
END:VCALENDAR