BEGIN:VCALENDAR
VERSION:2.0
PRODID:-//hacksw/handcal//NONSGML v1.0//EN
BEGIN:VEVENT
DTSTART:20241129T070000Z
DTEND:20241129T090000Z
LOCATION:Sky & Garden - 17ème étage \n7, Allée du Roi \n92600 ASNIERES-SUR-SEINE
ORGANIZER;CN=Philippe Musialek - Immobilier et Urbanisme - Real Estate and Urban Planning:MAILTO:philippe.musialek@me.com
SUMMARY:29/11 - Petit déjeuner avec Edouard François - Agriculture urbaine ou des jardins dans le ciel
DESCRIPTION:Le Groupement HEC Immobilier a le plaisir de vous convier à un petit déjeuner avec Edouard Françoisle vendredi 29 novembre 2024 à 8h \nau 17ème étage de l’immeuble SKY & GARDEN7 Allée du Roi, 92600...
URL:https://www.hecalumni.fr/en/group/immobilier-et-urbanisme-real-estate-and-urban-planning/179/calendar/29-11-petit-dejeuner-avec-edouard-francois-agriculture-urbaine-ou-des-jardins-dans-le-ciel/2024/11/29/11724
BEGIN:VALARM
TRIGGER:-P0DT1H0M0S
ACTION:DISPLAY
END:VALARM
END:VEVENT
END:VCALENDAR