BEGIN:VCALENDAR
VERSION:2.0
PRODID:-//hacksw/handcal//NONSGML v1.0//EN
BEGIN:VEVENT
DTSTART:20241116T180000Z
DTEND:20241116T223000Z
LOCATION:MANKO \n15, Avenue Montaigne \n75008 PARIS
ORGANIZER;CN=Laurence Rolland - EMBA HEC 2021/JM:MAILTO:laurence.rolland@hecalumni.fr
SUMMARY:EMBA MULTI-COHORT DINNER PARTY at MANKO (2nd Ed.)
DESCRIPTION:EVENEMENT ANNULE !\nEMBA MULTI-COHORT DINNER PARTY at MANKO (2nd Ed.)-----------All EMBA classes from 2007 to 2025 are invited. After the success of our previous events, jJoin us for the 6th EMBA...
URL:https://www.hecalumni.fr/en/group/emba-hec-2021-jm/2753/calendar/emba-multi-cohort-dinner-party-at-manko-2nd-ed/2024/11/16/11666
BEGIN:VALARM
TRIGGER:-P0DT1H0M0S
ACTION:DISPLAY
END:VALARM
END:VEVENT
END:VCALENDAR