BEGIN:VCALENDAR
VERSION:2.0
PRODID:-//hacksw/handcal//NONSGML v1.0//EN
BEGIN:VEVENT
DTSTART:20241009T164500Z
DTEND:20241009T193000Z
LOCATION:HEC Alumni  \n9 avenue F.D. Roosevelt \n75008 Paris
ORGANIZER;CN=Jean-Daniel Pick - Commerce et Distribution - Trading and Retail:MAILTO:jean-daniel@jdpick.com
SUMMARY:Rencontre avec Anne-Laure Feldkircher, Directrice Générale de BUT
DESCRIPTION:Anne-Laure Feldkircher, Directrice Générale de BUT\n «Etablir le diagnostic et le plan stratégique d’une enseigne en moins de 6 mois »Mercredi 9 octobre, 18H45 à l’Association HEC Alumni \nLe Club HEC...
URL:https://www.hecalumni.fr/en/group/commerce-et-distribution-trading-and-retail/177/calendar/rencontre-avec-anne-laure-feldkircher-directrice-generale-de-but/2024/10/09/11645
BEGIN:VALARM
TRIGGER:-P0DT1H0M0S
ACTION:DISPLAY
END:VALARM
END:VEVENT
END:VCALENDAR