BEGIN:VCALENDAR
VERSION:2.0
PRODID:-//hacksw/handcal//NONSGML v1.0//EN
BEGIN:VEVENT
DTSTART:20240926T164500Z
DTEND:20240926T190000Z
LOCATION:Maison des ESSEC \n11, Avenue de Friedland \n75008 PARIS
ORGANIZER;CN=Arnica Massé - Tourisme - Tourism:MAILTO:arnicam@gmail.com
SUMMARY:Master Class avec Gérard Feldzer : de consultant aéronautique à la télévision à Président d'Aviation Sans Frontière !
DESCRIPTION:Chers alumnis, Le Club Tourisme et Management  en collaboration avec les clubs tourisme de l’ESCP et l’ESSEC, ont le plaisir de vous inviter à la prochaine conférence en présentiel :Une MasterClass...
URL:https://www.hecalumni.fr/en/group/tourisme-tourism/191/calendar/master-class-avec-gerard-feldzer-de-consultant-aeronautique-a-la-television-a-president-d-aviation-sans-frontiere/2024/09/26/11624
BEGIN:VALARM
TRIGGER:-P0DT1H0M0S
ACTION:DISPLAY
END:VALARM
END:VEVENT
END:VCALENDAR