BEGIN:VCALENDAR
VERSION:2.0
PRODID:-//hacksw/handcal//NONSGML v1.0//EN
BEGIN:VEVENT
DTSTART:20241015T180000Z
DTEND:20241015T200000Z
LOCATION:HEC UK House \n43 Parker Street \nWC2B 5PS LONDON
ORGANIZER;CN=Marie Normant - United Kingdom - UK:MAILTO:marie.normant@hecalumni.fr
SUMMARY:Strategic Management Study Trip Networking Evening
DESCRIPTION:HEC in the UK and the Master in Strategic Management from HEC Paris are delighted to invite you to meet and greet the next generation of HEC Strategic Management students :   ALUMNI x...
URL:https://www.hecalumni.fr/en/group/united-kingdom-uk/109/calendar/strategic-management-study-trip-networking-evening/2024/10/15/11607
BEGIN:VALARM
TRIGGER:-P0DT1H0M0S
ACTION:DISPLAY
END:VALARM
END:VEVENT
END:VCALENDAR