BEGIN:VCALENDAR
VERSION:2.0
PRODID:-//hacksw/handcal//NONSGML v1.0//EN
BEGIN:VEVENT
DTSTART:20240911T120000Z
DTEND:20240911T130000Z
LOCATION:https://zoom.us/meeting/register/tJwtcO6pqTMoE9SNcIBa591p17EoItkcky14#/registration
ORGANIZER;CN=Wendy Degremont - United Kingdom - UK:MAILTO:degremont@hec.fr
SUMMARY:Online Masterclass - Best Practices for Innovation and Hypergrowth
DESCRIPTION:The HEC Paris Executive Education is delighted to invite you to its next online Masterclass:  \n“Best Practices for Innovation and Hypergrowth”Wednesday 11th September at 1pm UK time/2pm...
URL:https://www.hecalumni.fr/en/group/united-kingdom-uk/109/calendar/online-masterclass-best-practices-for-innovation-and-hypergrowth/2024/09/11/11585
BEGIN:VALARM
TRIGGER:-P0DT1H0M0S
ACTION:DISPLAY
END:VALARM
END:VEVENT
END:VCALENDAR