BEGIN:VCALENDAR
VERSION:2.0
PRODID:-//hacksw/handcal//NONSGML v1.0//EN
BEGIN:VEVENT
DTSTART:20241029T180000Z
DTEND:20241029T190000Z
LOCATION:https://us06web.zoom.us/j/89461675054?pwd=1RtqZd3vv33jal2zLOjkDnYTeZeNPH.1
ORGANIZER;CN=Marie Normant - United Kingdom - UK:MAILTO:marie.normant@hecalumni.fr
SUMMARY:HEC UK Art Club: Webinar on Ukrainian porcelain collectors: social origins, tastes, migrations and their way of collecting
DESCRIPTION:Webinar access code 894 6167 5054 Code 452916...
URL:https://www.hecalumni.fr/en/group/united-kingdom-uk/109/calendar/hec-uk-art-club-webinar-on-ukrainian-porcelain-collectors-social-origins-tastes-migrations-and-their-way-of-collecting/2024/10/29/11572
BEGIN:VALARM
TRIGGER:-P0DT1H0M0S
ACTION:DISPLAY
END:VALARM
END:VEVENT
END:VCALENDAR