BEGIN:VCALENDAR
VERSION:2.0
PRODID:-//hacksw/handcal//NONSGML v1.0//EN
BEGIN:VEVENT
DTSTART:20241120T073000Z
DTEND:20241120T163000Z
LOCATION:Salons Hoche \n9, Avenue Hoche \n75008 PARIS
ORGANIZER;CN=Isabelle Dion - HUB SANTE - HEALTH HUB:MAILTO:isabellecdion@orange.fr
SUMMARY:RENCONTRES DE LA CANCEROLOGIE FRANCAISE 2024 et CANCERTECH
DESCRIPTION:\nA vos agendas !Les Rencontres de la Cancérologie Française 2024, organisées par le Groupe Profession Santé, se tiendront le 20 novembre 2024 sur le thème\nDE LA DATA PATIENT À LA PRÉVENTION ET AUX...
URL:https://www.hecalumni.fr/en/group/hub-sante-health-hub/393/calendar/rencontres-de-la-cancerologie-francaise-2024-et-cancertech/2024/11/20/11545
BEGIN:VALARM
TRIGGER:-P0DT1H0M0S
ACTION:DISPLAY
END:VALARM
END:VEVENT
END:VCALENDAR