BEGIN:VCALENDAR
VERSION:2.0
PRODID:-//hacksw/handcal//NONSGML v1.0//EN
BEGIN:VEVENT
DTSTART:20241004T170000Z
DTEND:20241004T193000Z
LOCATION:HEC ALUMNI \n9, Avenue Franklin Delano Roosevelt \n75008 PARIS
ORGANIZER;CN=Venera Nikogosian:MAILTO:
SUMMARY:Welcome Party for new HEC Paris Graduates_ MBA and Executive Education programs
DESCRIPTION:\nWelcome Party for New HEC Paris GraduatesFriday, October 4th, from 7pm  Congratulations to MBA and Executive Education graduates of the Class of 2024!  HEC Alumni invites you to a friendly...
URL:https://www.hecalumni.fr/en/event/welcome-party-for-new-hec-paris-graduates-mba-and-executive-education-programs/2024/10/04/11502
BEGIN:VALARM
TRIGGER:-P0DT1H0M0S
ACTION:DISPLAY
END:VALARM
END:VEVENT
END:VCALENDAR