BEGIN:VCALENDAR
VERSION:2.0
PRODID:-//hacksw/handcal//NONSGML v1.0//EN
BEGIN:VEVENT
DTSTART:20250402T163000Z
DTEND:20250402T183000Z
LOCATION:HEC Alumni \n9, Avenue Franklin Delano Roosevelt \n75008 PARIS
ORGANIZER;CN=Marc Kieken - Generation Change:MAILTO:marc.kieken@gmail.com
SUMMARY:Bénévolat et Mentorat de compétences: une richesse d'expérience incontournable
DESCRIPTION:\n« Rencontre HEC Génération Change »en liaison avec HEC Volunteers For Good-HEC engagés pour le bien commun Mercredi 2 avril 2025, de 18h30 à 20h30\nà HEC Alumni, 9 avenue Franklin-Roosevelt Paris...
URL:https://www.hecalumni.fr/en/group/generation-change/475/calendar/benevolat-et-mentorat-de-competences-une-richesse-d-experience-incontournable/2025/04/02/11492
BEGIN:VALARM
TRIGGER:-P0DT1H0M0S
ACTION:DISPLAY
END:VALARM
END:VEVENT
END:VCALENDAR