BEGIN:VCALENDAR
VERSION:2.0
PRODID:-//hacksw/handcal//NONSGML v1.0//EN
BEGIN:VEVENT
DTSTART:20240910T180000Z
DTEND:20240912T210000Z
LOCATION:HEC UK House \n43 Parker Street \nWC2B 5PS LONDON
ORGANIZER;CN=Marie Normant - United Kingdom - UK:MAILTO:marie.normant@hecalumni.fr
SUMMARY:Finance Study Trip Networking Events
DESCRIPTION:HEC in the UK, the Master in International Finance and the Master in Economics and Finance of HEC Paris are delighted to invite you to meet and greet the next generation of HEC Finance students at one...
URL:https://www.hecalumni.fr/en/group/united-kingdom-uk/109/calendar/finance-study-trip-networking-events/2024/09/10/11409
BEGIN:VALARM
TRIGGER:-P0DT1H0M0S
ACTION:DISPLAY
END:VALARM
END:VEVENT
END:VCALENDAR