BEGIN:VCALENDAR
VERSION:2.0
PRODID:-//hacksw/handcal//NONSGML v1.0//EN
BEGIN:VEVENT
DTSTART:20240625T183000Z
DTEND:20240625T203000Z
LOCATION:Église Saint Eustache \n146, Rue Rambuteau \n75001 PARIS
ORGANIZER;CN=Laurence Rolland - HEC Grande Ecole 1978:MAILTO:laurence.rolland@hecalumni.fr
SUMMARY:Rhapsodies Noires par Le Chœur Philharmonique International Unesco
DESCRIPTION:HEC Grande Ecole 1978\nOffre avec réduction pour les camarades HEC Pour le 30è anniversaire du programme initié par l’UNESCO sur « Les routes des personnes mises en esclavage »Le Chœur Philharmonique ...
URL:https://www.hecalumni.fr/en/group/hec-grande-ecole-1978/935/calendar/rhapsodies-noires-par-le-choeur-philharmonique-international-unesco/2024/06/25/11385
BEGIN:VALARM
TRIGGER:-P0DT1H0M0S
ACTION:DISPLAY
END:VALARM
END:VEVENT
END:VCALENDAR