BEGIN:VCALENDAR
VERSION:2.0
PRODID:-//hacksw/handcal//NONSGML v1.0//EN
BEGIN:VEVENT
DTSTART:20240514T163000Z
DTEND:20240514T210000Z
LOCATION:Hotel Melia Vendome \n8, Rue Cambon \n75001 PARIS
ORGANIZER;CN=Christian Kamayou - Développement International - International Development:MAILTO:kamayouc@hotmail.com
SUMMARY:Afterwork HEC Alumni - spécial "Entreprendre en Afrique - Mardi 14 mai 2024 - Bar Hotel Melia 4*
DESCRIPTION:L'international, l'Afrique, l'innovation vous intéressent ? Rejoignez-nous pour garder le contact ! Afterwork HEC Alumni - spécial "Entreprendre en Afrique"\nMardi 14 mai 2024, à partir de 18h30 Hôtel...
URL:https://www.hecalumni.fr/en/group/developpement-international-international-development/217/calendar/afterwork-hec-alumni-special-entreprendre-en-afrique-mardi-14-mai-2024-bar-hotel-melia-4/2024/05/14/11311
BEGIN:VALARM
TRIGGER:-P0DT1H0M0S
ACTION:DISPLAY
END:VALARM
END:VEVENT
END:VCALENDAR