BEGIN:VCALENDAR
VERSION:2.0
PRODID:-//hacksw/handcal//NONSGML v1.0//EN
BEGIN:VEVENT
DTSTART:20240518T173000Z
DTEND:20240519T010000Z
LOCATION:Cercle de l’Union Interalliée
ORGANIZER;CN=Audiovisuel HEC ALUMNI - EMBA HEC 2021/JM:MAILTO:audiovisuel@hecalumni.fr
SUMMARY:1st Annual EMBA Ball - 18 May 2024
DESCRIPTION:\nIL N'EST PLUS POSSIBLE DE S'INSCRIRE A CET EVENT !\n1st Annual EMBA Ball-----------All EMBA classes from 2007 to 2025 are invited.\nJoin us for the first EMBA Ball to celebrate and network with...
URL:https://www.hecalumni.fr/en/group/emba-hec-2021-jm/2753/calendar/1st-annual-emba-ball-18-may-2024/2024/05/18/11074
BEGIN:VALARM
TRIGGER:-P0DT1H0M0S
ACTION:DISPLAY
END:VALARM
END:VEVENT
END:VCALENDAR