BEGIN:VCALENDAR
VERSION:2.0
PRODID:-//hacksw/handcal//NONSGML v1.0//EN
BEGIN:VEVENT
DTSTART:20240314T150000Z
DTEND:20240314T160000Z
LOCATION:Austria
ORGANIZER;CN=Ophelie Martinel - Austria:MAILTO:ophelie.martinel@hecalumni.fr
SUMMARY:Breakfast: ESG in Companies
DESCRIPTION:Chères et chers Alumnis HEC,\n Le succès, auquel vous avez été nombreux à contribuer l’année dernière, des deux premières manifestations du\n Café des Grandes Ecoles,\n manifestations aux formats...
URL:https://www.hecalumni.fr/en/group/austria/95/calendar/breakfast-esg-in-companies/2024/03/14/11073
BEGIN:VALARM
TRIGGER:-P0DT1H0M0S
ACTION:DISPLAY
END:VALARM
END:VEVENT
END:VCALENDAR