BEGIN:VCALENDAR
VERSION:2.0
PRODID:-//hacksw/handcal//NONSGML v1.0//EN
BEGIN:VEVENT
DTSTART:20240611T073000Z
DTEND:20240611T150000Z
LOCATION:HEC Alumni \n9, Avenue Franklin Delano Roosevelt \n75008 PARIS
ORGANIZER;CN=Marine Homo:MAILTO:marine.homo@hecalumni.fr
SUMMARY:Atelier "Découvrir son IKIGAÏ pour réenchanter son travail" - 11 juin
DESCRIPTION:Ou comment mettre à jour ses envies personnelles et nourrir son appétit professionnel en adéquation avec ses propres valeurs ?\nVous désirez vous recentrer, donner plus d'élan à votre quotidien...
URL:https://www.hecalumni.fr/en/event/atelier-decouvrir-son-ikigai-pour-reenchanter-son-travail-11-juin/2024/06/11/11021
BEGIN:VALARM
TRIGGER:-P0DT1H0M0S
ACTION:DISPLAY
END:VALARM
END:VEVENT
END:VCALENDAR