BEGIN:VCALENDAR
VERSION:2.0
PRODID:-//hacksw/handcal//NONSGML v1.0//EN
BEGIN:VEVENT
DTSTART:20240105T113000Z
DTEND:20240115T143000Z
LOCATION:Café du Musée \n7 rue Ferrere \n33000  Bordeaux
ORGANIZER;CN=Laurence Rolland - Sud-Ouest:MAILTO:laurence.rolland@hecalumni.fr
SUMMARY:Déjeuner des voeux 2024
DESCRIPTION:+ de 50 personnes y ont participé\nDéjeuner des voeux 2024\nRetrouvons nous pour bien commencer cette nouvelle année le : \nVendredi 05 janvier 2024 à 12h30auCafé du Musée 7 rue Ferrere 33000...
URL:https://www.hecalumni.fr/en/group/sud-ouest/77/calendar/dejeuner-des-voeux-2024/2024/01/05/10931
BEGIN:VALARM
TRIGGER:-P0DT1H0M0S
ACTION:DISPLAY
END:VALARM
END:VEVENT
END:VCALENDAR