BEGIN:VCALENDAR
VERSION:2.0
PRODID:-//hacksw/handcal//NONSGML v1.0//EN
BEGIN:VEVENT
DTSTART:20240117T173000Z
DTEND:20240117T210000Z
LOCATION:Association HEC Alumni \n9, avenue Franklin Roosevelt \n75008 Paris
ORGANIZER;CN=Roger Pelaud - HEC Alumni Club Repreneurs:MAILTO:rogerpelaudpro@gmail.com
SUMMARY:Reprendre une start-up, pourquoi pas ?
DESCRIPTION:Table ronde mensuelle co-organisée par les Clubs HEC REPRENEURS et HEC ENTREPRENEURS :Reprendre une start-up, pourquoi pas ? Chers entrepreneurs, nous avons le plaisir de vous convier le 17 janvier...
URL:https://www.hecalumni.fr/en/group/hec-alumni-club-repreneurs/383/calendar/reprendre-une-start-up-pourquoi-pas/2024/01/17/10904
BEGIN:VALARM
TRIGGER:-P0DT1H0M0S
ACTION:DISPLAY
END:VALARM
END:VEVENT
END:VCALENDAR