BEGIN:VCALENDAR
VERSION:2.0
PRODID:-//hacksw/handcal//NONSGML v1.0//EN
BEGIN:VEVENT
DTSTART:20240920T103000Z
DTEND:20240920T120000Z
LOCATION:https://us02web.zoom.us/j/82458424008?pwd=l8JqL01VHj7iVlhl6Iw2ggLtm7B4zK.1
ORGANIZER;CN=Marine Homo:MAILTO:marine.homo@hecalumni.fr
SUMMARY:Webinar : « LinkedIn behind the scene » - 20 septembre
DESCRIPTION:Webinar access code 552976...
URL:https://www.hecalumni.fr/en/event/webinar-linkedin-behind-the-scene-20-septembre/2024/09/20/10757
BEGIN:VALARM
TRIGGER:-P0DT1H0M0S
ACTION:DISPLAY
END:VALARM
END:VEVENT
END:VCALENDAR