BEGIN:VCALENDAR
VERSION:2.0
PRODID:-//hacksw/handcal//NONSGML v1.0//EN
BEGIN:VEVENT
DTSTART:20240701T164500Z
DTEND:20240701T194500Z
LOCATION:HEC Alumni  \n9 avenue F.D. Roosevelt \n75008 Paris
ORGANIZER;CN=Jean-Daniel Pick - Commerce et Distribution - Trading and Retail:MAILTO:jean-daniel@jdpick.com
SUMMARY:Economie circulaire/Seconde Vie et Evitement de déchets » :  les nouvelles solutions pour Distributeurs ou Fabricants
DESCRIPTION: Economie circulaire/Seconde Vie et Evitement de déchets » :\n les nouvelles solutions pour Distributeurs ou FabricantsLundi 1er juillet , 18H45 à l’Association HEC Alumni Le Club HEC Alumni...
URL:https://www.hecalumni.fr/en/group/commerce-et-distribution-trading-and-retail/177/calendar/economie-circulaire-seconde-vie-et-evitement-de-dechets-les-nouvelles-solutions-pour-distributeurs-ou-fabricants/2024/07/01/10745
BEGIN:VALARM
TRIGGER:-P0DT1H0M0S
ACTION:DISPLAY
END:VALARM
END:VEVENT
END:VCALENDAR