BEGIN:VCALENDAR
VERSION:2.0
PRODID:-//hacksw/handcal//NONSGML v1.0//EN
BEGIN:VEVENT
DTSTART:20231129T153000Z
DTEND:20231201T114000Z
LOCATION:Institut Pasteur - CIS Auditorium \n205, rue de Vaugirard \n75015 Paris
ORGANIZER;CN=Isabelle Dion - SANTE - HEALTH:MAILTO:isabellecdion@orange.fr
SUMMARY:40 YEARS OF HIV SCIENCE
DESCRIPTION:\nThe Institut Pasteur is organising an international conference celebrating 40 YEARS OF HIV SCIENCE. "Forty years after its discovery, there is still no vaccine or cure for HIV. HIV research during...
URL:https://www.hecalumni.fr/en/group/sante-health/187/calendar/40-years-of-hiv-science/2023/11/29/10719
BEGIN:VALARM
TRIGGER:-P0DT1H0M0S
ACTION:DISPLAY
END:VALARM
END:VEVENT
END:VCALENDAR