BEGIN:VCALENDAR
VERSION:2.0
PRODID:-//hacksw/handcal//NONSGML v1.0//EN
BEGIN:VEVENT
DTSTART:20231107T173000Z
DTEND:20231107T210000Z
LOCATION:Association des Alumni HEC 75008 Paris \nAssociation des Alumni HEC au 9, avenue Franklin Roosevelt \n75008 Paris
ORGANIZER;CN=Roger Pelaud - HEC Alumni Club Repreneurs:MAILTO:rogerpelaudpro@gmail.com
SUMMARY:Le Capital Humain, facteur clé de réussite de votre reprise
DESCRIPTION:LE CAPITAL HUMAINFACTEUR CLE DE REUSSITE DE VOTRE REPRISE  Chers tous,Après les enjeux digitaux, si on parlait de la prise en compte du capital humain lors de votre reprise ?Celui-ci constitue...
URL:https://www.hecalumni.fr/en/group/hec-alumni-club-repreneurs/383/calendar/le-capital-humain-facteur-cle-de-reussite-de-votre-reprise/2023/11/07/10645
BEGIN:VALARM
TRIGGER:-P0DT1H0M0S
ACTION:DISPLAY
END:VALARM
END:VEVENT
END:VCALENDAR