BEGIN:VCALENDAR
VERSION:2.0
PRODID:-//hacksw/handcal//NONSGML v1.0//EN
BEGIN:VEVENT
DTSTART:20231123T183000Z
DTEND:20231123T220000Z
LOCATION:Chais de France \n6 chemin des Montquartiers \n92210 Issy-les-Moulineaux
ORGANIZER;CN=Audiovisuel HEC ALUMNI - HEC Grande Ecole 1967:MAILTO:audiovisuel@hecalumni.fr
SUMMARY:Soirée exceptionnelle dans les caves de Dimitri
DESCRIPTION:Soirée exceptionnelle dans les caves de Dimitri\nJeudi 23 novembre \n 19H30Chais de France\n6 Chemin des Montquartiers 92210 Issy-les-Moulineaux www.leschaisdefrance.com01 58 04 91 60Chers Camarades, ...
URL:https://www.hecalumni.fr/en/group/hec-grande-ecole-1967/831/calendar/soiree-exceptionnelle-dans-les-caves-de-dimitri/2023/11/23/10643
BEGIN:VALARM
TRIGGER:-P0DT1H0M0S
ACTION:DISPLAY
END:VALARM
END:VEVENT
END:VCALENDAR