BEGIN:VCALENDAR
VERSION:2.0
PRODID:-//hacksw/handcal//NONSGML v1.0//EN
BEGIN:VEVENT
DTSTART:20231118T160000Z
DTEND:20231119T003000Z
LOCATION:Campus HEC \n1, rue de la Libération  \n78350  JOUY
ORGANIZER;CN=Laurence Rolland - HEC Grande Ecole 1978:MAILTO:laurence.rolland@hecalumni.fr
SUMMARY:Promotion H.78 | URGENT : INSCRIPTION ! Nous fêtons nos 45 ans le samedi 18 novembre 2023 à partir de 17h à JOUY-en-JOSAS
DESCRIPTION:\nIL N'EST PLUS POSSIBLE DE S'INSCRIRE\nPromotion H.78\n URGENT : INSCRIPTION !\nNous fêtons nos 45 ans le samedi 18 novembre 2023\n à partir de 17h à JOUY-en-JOSAS\n Groupe HEC 1, rue de la...
URL:https://www.hecalumni.fr/en/group/hec-grande-ecole-1978/935/calendar/promotion-h-78-urgent-inscription-nous-fetons-nos-45-ans-le-samedi-18-novembre-2023-a-partir-de-17h-a-jouy-en-josas/2023/11/18/10583
BEGIN:VALARM
TRIGGER:-P0DT1H0M0S
ACTION:DISPLAY
END:VALARM
END:VEVENT
END:VCALENDAR