BEGIN:VCALENDAR
VERSION:2.0
PRODID:-//hacksw/handcal//NONSGML v1.0//EN
BEGIN:VEVENT
DTSTART:20231129T174500Z
DTEND:20231129T223000Z
LOCATION:Pavillon Dauphine \nPlace du Maréchal de Lattre de Tassigny \n75016 PARIS
ORGANIZER;CN=Clémence Pontuer:MAILTO:clemence.pontuer@hecalumni.fr
SUMMARY:Celebrating 50 years of gender equality at HEC Paris
DESCRIPTION:\n2023 marks the 50th anniversary of the opening of the HEC Paris entrance exam to women: 50 years illustrated by 50 women who embody the diversity of talents, strengths and career paths of all HEC...
URL:https://www.hecalumni.fr/en/event/celebrating-50-years-of-gender-equality-at-hec-paris/2023/11/29/10559
BEGIN:VALARM
TRIGGER:-P0DT1H0M0S
ACTION:DISPLAY
END:VALARM
END:VEVENT
END:VCALENDAR