BEGIN:VCALENDAR
VERSION:2.0
PRODID:-//hacksw/handcal//NONSGML v1.0//EN
BEGIN:VEVENT
DTSTART:20230906T170000Z
DTEND:20230906T183000Z
LOCATION:https://us02web.zoom.us/j/87342939357?pwd=bkJrUFZMT1pxcXNuNzJBY21wRHdNQT09
ORGANIZER;CN=Théodora Plagnard - Finance d'Entreprise - Corporate Finance:MAILTO:theodora.plagnard@gmail.com
SUMMARY:Financiers, prêts pour votre nouvelle mission ?
DESCRIPTION:Webinar access code 873 4293 9357 Code : 386633...
URL:https://www.hecalumni.fr/en/group/finance-d-entreprise-corporate-finance/395/calendar/financiers-prets-pour-votre-nouvelle-mission/2023/09/06/10449
BEGIN:VALARM
TRIGGER:-P0DT1H0M0S
ACTION:DISPLAY
END:VALARM
END:VEVENT
END:VCALENDAR